BEGIN:VCALENDAR
VERSION:2.0
PRODID:-//eventon.com NONSGML v1.0//EN
CALSCALE:GREGORIAN
METHOD:PUBLISH
BEGIN:VEVENT
UID:69e4ca9797f62
DTSTAMP:20260419T122911Z
DTSTART:20250817T210000Z
DTEND:20250817T220000Z
LOCATION:
SUMMARY:Gudački kvartet Rozeta na letnjoj sceni
DESCRIPTION:Gudački kvartet Rozeta na letnjoj sceni\nhttps://dunjainfo.rs/
 events/gudacki-kvartet-rozeta-na-letnjoj-sceni/
URL:https://dunjainfo.rs/events/gudacki-kvartet-rozeta-na-letnjoj-sceni/
END:VEVENT
END:VCALENDAR