BEGIN:VCALENDAR
VERSION:2.0
PRODID:-//eventon.com NONSGML v1.0//EN
CALSCALE:GREGORIAN
METHOD:PUBLISH
BEGIN:VEVENT
UID:69e5ff6f15ff6
DTSTAMP:20260420T102655Z
DTSTART:20250308T200000Z
DTEND:20250308T213000Z
LOCATION:
SUMMARY:Koncert Ivana Milinkovića u Pirotu
DESCRIPTION:Koncert Ivana Milinkovića u Pirotu\nhttps://dunjainfo.rs/event
 s/koncert-ivana-milinkovica-u-pirotu/
URL:https://dunjainfo.rs/events/koncert-ivana-milinkovica-u-pirotu/
END:VEVENT
END:VCALENDAR